BEGIN:VCALENDAR
VERSION:2.0
PRODID:-//Hankasalmen kunta - ECPv6.15.15//NONSGML v1.0//EN
CALSCALE:GREGORIAN
METHOD:PUBLISH
X-ORIGINAL-URL:https://hankasalmi.fi
X-WR-CALDESC:Tapahtumat Hankasalmen kunta
REFRESH-INTERVAL;VALUE=DURATION:PT1H
X-Robots-Tag:noindex
X-PUBLISHED-TTL:PT1H
BEGIN:VTIMEZONE
TZID:Europe/Helsinki
BEGIN:DAYLIGHT
TZOFFSETFROM:+0200
TZOFFSETTO:+0300
TZNAME:EEST
DTSTART:20250330T010000
END:DAYLIGHT
BEGIN:STANDARD
TZOFFSETFROM:+0300
TZOFFSETTO:+0200
TZNAME:EET
DTSTART:20251026T010000
END:STANDARD
BEGIN:DAYLIGHT
TZOFFSETFROM:+0200
TZOFFSETTO:+0300
TZNAME:EEST
DTSTART:20260329T010000
END:DAYLIGHT
BEGIN:STANDARD
TZOFFSETFROM:+0300
TZOFFSETTO:+0200
TZNAME:EET
DTSTART:20261025T010000
END:STANDARD
BEGIN:DAYLIGHT
TZOFFSETFROM:+0200
TZOFFSETTO:+0300
TZNAME:EEST
DTSTART:20270328T010000
END:DAYLIGHT
BEGIN:STANDARD
TZOFFSETFROM:+0300
TZOFFSETTO:+0200
TZNAME:EET
DTSTART:20271031T010000
END:STANDARD
END:VTIMEZONE
BEGIN:VEVENT
DTSTART;VALUE=DATE:20260319
DTEND;VALUE=DATE:20260502
DTSTAMP:20260422T202025
CREATED:20260319T141447Z
LAST-MODIFIED:20260319T141447Z
UID:10016753-1773892800-1777607999@hankasalmi.fi
SUMMARY:Vuokko Huttunen: Seikkailen
DESCRIPTION:Vuokko Huttusen pienoisvalokuvanäyttelyssä neljä kuvaa luonnosta. Näyttely on avoinna kirjaston aukioloaikoina 30.4. saakka. Tervetuloa!
URL:https://hankasalmi.fi/tapahtuma/vuokko-huttunen-seikkailen/
LOCATION:Hankasalmen pääkirjasto\, Rantakalliontie 3\, Hankasalmi\, 41520\, Finland
ATTACH;FMTTYPE=image/png:https://hankasalmi.fi/wp/wp-content/uploads/Vuokko-Huttunen-nayttelykuva.png
GEO:62.3898777;26.4335271
X-APPLE-STRUCTURED-LOCATION;VALUE=URI;X-ADDRESS=Hankasalmen pääkirjasto Rantakalliontie 3 Hankasalmi 41520 Finland;X-APPLE-RADIUS=500;X-TITLE=Rantakalliontie 3:geo:26.4335271,62.3898777
END:VEVENT
BEGIN:VEVENT
DTSTART;TZID=Europe/Helsinki:20260422T084500
DTEND;TZID=Europe/Helsinki:20260422T093000
DTSTAMP:20260422T202025
CREATED:20250813T090613Z
LAST-MODIFIED:20250813T090613Z
UID:10010936-1776847500-1776850200@hankasalmi.fi
SUMMARY:Habakerho 8 lk
DESCRIPTION:Vuoro on varattu vuoron varanneille.
URL:https://hankasalmi.fi/tapahtuma/habakerho-8-lk-2/2026-04-22/
LOCATION:Monitoimitalo\, kuntosali\, Kirkkotie 11\, Hankasalmi\, Jyväskylä\, 41520\, Finland
CATEGORIES:Kuntosalin käyttövuorot
GEO:62.3867009;26.4303227
X-APPLE-STRUCTURED-LOCATION;VALUE=URI;X-ADDRESS=Monitoimitalo kuntosali Kirkkotie 11 Hankasalmi Jyväskylä 41520 Finland;X-APPLE-RADIUS=500;X-TITLE=Kirkkotie 11:geo:26.4303227,62.3867009
END:VEVENT
BEGIN:VEVENT
DTSTART;TZID=Europe/Helsinki:20260422T090000
DTEND;TZID=Europe/Helsinki:20260422T094500
DTSTAMP:20260422T202025
CREATED:20260126T152142Z
LAST-MODIFIED:20260304T091323Z
UID:10016268-1776848400-1776851100@hankasalmi.fi
SUMMARY:Tuolijumppa Seniorituvalla
DESCRIPTION:Helppoa ja hauskaa liikettä jokaiseen kehoon! Kaikki liikkeet on mahdollista tehdä tuolilla istuen. Toimintakykyä\, liikkuvuutta\, tasapainoa ja lihasvoimaa. Kaikille avoin ja maksuton\, tervetuloa!
URL:https://hankasalmi.fi/tapahtuma/tuolijumppa/2026-04-22/
LOCATION:Senioritupa\, Keskustie 53 A\, Hankasalmi\, Suomi
ATTACH;FMTTYPE=image/png:https://hankasalmi.fi/wp/wp-content/uploads/295414b6-d970-4b6b-98b5-a7d4d689ad45.png
GEO:62.3942453;26.4335189
X-APPLE-STRUCTURED-LOCATION;VALUE=URI;X-ADDRESS=Senioritupa Keskustie 53 A Hankasalmi Suomi;X-APPLE-RADIUS=500;X-TITLE=Keskustie 53 A:geo:26.4335189,62.3942453
END:VEVENT
BEGIN:VEVENT
DTSTART;TZID=Europe/Helsinki:20260422T093000
DTEND;TZID=Europe/Helsinki:20260422T101500
DTSTAMP:20260422T202026
CREATED:20260126T153545Z
LAST-MODIFIED:20260126T153545Z
UID:10016353-1776850200-1776852900@hankasalmi.fi
SUMMARY:Sepon yhteislaulut Tuikussa
DESCRIPTION:Seppo laulattaa yhteislauluja Tuikussa keskiviikkoisin klo 9.30–10.15. Kaikille avoin ja maksuton\, tervetuloa!
URL:https://hankasalmi.fi/tapahtuma/sepon-yhteislaulut-tuikussa/2026-04-22/
LOCATION:Hankasalmen Tuikku ry\, Asematie 1\, Hankasalmi
GEO:62.3894407;26.4361327
X-APPLE-STRUCTURED-LOCATION;VALUE=URI;X-ADDRESS=Hankasalmen Tuikku ry Asematie 1 Hankasalmi;X-APPLE-RADIUS=500;X-TITLE=Asematie 1:geo:26.4361327,62.3894407
END:VEVENT
BEGIN:VEVENT
DTSTART;TZID=Europe/Helsinki:20260422T093000
DTEND;TZID=Europe/Helsinki:20260422T103000
DTSTAMP:20260422T202026
CREATED:20251029T082307Z
LAST-MODIFIED:20251029T082307Z
UID:10015434-1776850200-1776853800@hankasalmi.fi
SUMMARY:Kuntosalin siivous
DESCRIPTION:Kuntosalin siivous. Kuntosalilla saa harjoitella myös siivouksen aikaan\, mutta huomioithan työrauhan!
URL:https://hankasalmi.fi/tapahtuma/kuntosalin-siivous/2026-04-22/
LOCATION:Monitoimitalo\, kuntosali\, Kirkkotie 11\, Hankasalmi\, Jyväskylä\, 41520\, Finland
CATEGORIES:Kuntosalin siivous
ORGANIZER;CN="Liikuntapalvelut":MAILTO:liikuntapalvelut@hankasalmi.fi
GEO:62.3867009;26.4303227
X-APPLE-STRUCTURED-LOCATION;VALUE=URI;X-ADDRESS=Monitoimitalo kuntosali Kirkkotie 11 Hankasalmi Jyväskylä 41520 Finland;X-APPLE-RADIUS=500;X-TITLE=Kirkkotie 11:geo:26.4303227,62.3867009
END:VEVENT
BEGIN:VEVENT
DTSTART;TZID=Europe/Helsinki:20260422T100000
DTEND;TZID=Europe/Helsinki:20260422T120000
DTSTAMP:20260422T202026
CREATED:20260116T074049Z
LAST-MODIFIED:20260119T115305Z
UID:10016082-1776852000-1776859200@hankasalmi.fi
SUMMARY:Perhekerho
DESCRIPTION:Avoin kerho kaikenikäisille lapsille\, aikuisille\, isovanhemmille\, kummeille ja muille läheisille. Yhdessäoloa ja mukavaa puuhaa. Tarjoamme lounaan.
URL:https://hankasalmi.fi/tapahtuma/perhekerho-2/2026-04-22/
LOCATION:Hankasalmen seurakuntatalo\, Pappilantie 4\, Hankasalmi\, Suomi
GEO:62.3885997;26.4342797
X-APPLE-STRUCTURED-LOCATION;VALUE=URI;X-ADDRESS=Hankasalmen seurakuntatalo Pappilantie 4 Hankasalmi Suomi;X-APPLE-RADIUS=500;X-TITLE=Pappilantie 4:geo:26.4342797,62.3885997
END:VEVENT
BEGIN:VEVENT
DTSTART;TZID=Europe/Helsinki:20260422T103000
DTEND;TZID=Europe/Helsinki:20260422T103000
DTSTAMP:20260422T202026
CREATED:20260309T101921Z
LAST-MODIFIED:20260309T101921Z
UID:10016669-1776853800-1776853800@hankasalmi.fi
SUMMARY:Bingo Tuikussa
DESCRIPTION:Bingo keskiviikkoisin klo 10.30 Tuikussa.
URL:https://hankasalmi.fi/tapahtuma/bingo-tuikussa/2026-04-22/
LOCATION:Hankasalmen Tuikku ry\, Asematie 1\, Hankasalmi
CATEGORIES:Tapahtumat,Yhdistykset
GEO:62.3894407;26.4361327
X-APPLE-STRUCTURED-LOCATION;VALUE=URI;X-ADDRESS=Hankasalmen Tuikku ry Asematie 1 Hankasalmi;X-APPLE-RADIUS=500;X-TITLE=Asematie 1:geo:26.4361327,62.3894407
END:VEVENT
BEGIN:VEVENT
DTSTART;TZID=Europe/Helsinki:20260422T103000
DTEND;TZID=Europe/Helsinki:20260422T120000
DTSTAMP:20260422T202026
CREATED:20250812T113207Z
LAST-MODIFIED:20250812T113207Z
UID:10010793-1776853800-1776859200@hankasalmi.fi
SUMMARY:K-opisto Kiertäjät 2
DESCRIPTION:Vuoro on tarkoitettu vuoron varanneille. \nKansalaisopiston kiertäjät: Kurssilla opit käyttämään laitteita oikein. Monipuolista harjoittelua lihasvoiman ja kestävyyden kehittämiseksi. Liikkeet sovelletaan eri tasoisille osallistujille sopiviksi. Kesto 90 min. Ohjaaja Kaisa Koutonen. Lisätiedot kansalaisopiston ryhmistä: Kurssit | Hankasalmen kunta
URL:https://hankasalmi.fi/tapahtuma/k-opisto-kiertajat-2-2/2026-04-22/
LOCATION:Monitoimitalo\, kuntosali\, Kirkkotie 11\, Hankasalmi\, Jyväskylä\, 41520\, Finland
CATEGORIES:Kuntosalin käyttövuorot
GEO:62.3867009;26.4303227
X-APPLE-STRUCTURED-LOCATION;VALUE=URI;X-ADDRESS=Monitoimitalo kuntosali Kirkkotie 11 Hankasalmi Jyväskylä 41520 Finland;X-APPLE-RADIUS=500;X-TITLE=Kirkkotie 11:geo:26.4303227,62.3867009
END:VEVENT
BEGIN:VEVENT
DTSTART;TZID=Europe/Helsinki:20260422T180000
DTEND;TZID=Europe/Helsinki:20260422T180000
DTSTAMP:20260422T202026
CREATED:20260216T094812Z
LAST-MODIFIED:20260216T094812Z
UID:10016487-1776880800-1776880800@hankasalmi.fi
SUMMARY:Lohibingo
DESCRIPTION:Kylmäsavulohibingo keskiviikkoisin klo 18.00. Lippu 3€.
URL:https://hankasalmi.fi/tapahtuma/lohibingo/2026-04-22/
LOCATION:Pirtti Baari 2\, Riukulantie 3\, Hankasalmi\, 41520
CATEGORIES:Tapahtumat
GEO:62.3897467;26.4376487
X-APPLE-STRUCTURED-LOCATION;VALUE=URI;X-ADDRESS=Pirtti Baari 2 Riukulantie 3 Hankasalmi 41520;X-APPLE-RADIUS=500;X-TITLE=Riukulantie 3:geo:26.4376487,62.3897467
END:VEVENT
BEGIN:VEVENT
DTSTART;VALUE=DATE:20260423
DTEND;VALUE=DATE:20260510
DTSTAMP:20260422T202026
CREATED:20260319T143955Z
LAST-MODIFIED:20260422T124634Z
UID:10016755-1776916800-1778299199@hankasalmi.fi
SUMMARY:Kansalaisopiston kädentaitojen näyttely
DESCRIPTION:Hankasalmen kansalaisopiston kädentaitokurssien kevätnäyttely. Tule ihastelemaan\, mitä kaikkea taitavat kädet ovat lukuvuoden aikana piireissä saaneet aikaan. <3 \n 
URL:https://hankasalmi.fi/tapahtuma/kansalaisopiston-kadentaitojen-nayttely/
LOCATION:Hankasalmen pääkirjasto\, Rantakalliontie 3\, Hankasalmi\, 41520\, Finland
CATEGORIES:Kirjasto,Kulttuuri,Näyttelyt,Tapahtumat
ATTACH;FMTTYPE=image/png:https://hankasalmi.fi/wp/wp-content/uploads/Opiston-nayttely-2026-Instagram-postaus-45.png
GEO:62.3898777;26.4335271
X-APPLE-STRUCTURED-LOCATION;VALUE=URI;X-ADDRESS=Hankasalmen pääkirjasto Rantakalliontie 3 Hankasalmi 41520 Finland;X-APPLE-RADIUS=500;X-TITLE=Rantakalliontie 3:geo:26.4335271,62.3898777
END:VEVENT
BEGIN:VEVENT
DTSTART;TZID=Europe/Helsinki:20260423T084500
DTEND;TZID=Europe/Helsinki:20260423T093000
DTSTAMP:20260422T202026
CREATED:20250813T090747Z
LAST-MODIFIED:20250813T090747Z
UID:10010956-1776933900-1776936600@hankasalmi.fi
SUMMARY:Habakerho 9 lk
DESCRIPTION:Vuoro on varattu vuoron varanneille.
URL:https://hankasalmi.fi/tapahtuma/habakerho-9-lk-2/2026-04-23/
LOCATION:Monitoimitalo\, kuntosali\, Kirkkotie 11\, Hankasalmi\, Jyväskylä\, 41520\, Finland
CATEGORIES:Kuntosalin käyttövuorot
GEO:62.3867009;26.4303227
X-APPLE-STRUCTURED-LOCATION;VALUE=URI;X-ADDRESS=Monitoimitalo kuntosali Kirkkotie 11 Hankasalmi Jyväskylä 41520 Finland;X-APPLE-RADIUS=500;X-TITLE=Kirkkotie 11:geo:26.4303227,62.3867009
END:VEVENT
BEGIN:VEVENT
DTSTART;TZID=Europe/Helsinki:20260423T093000
DTEND;TZID=Europe/Helsinki:20260423T103000
DTSTAMP:20260422T202026
CREATED:20250812T113801Z
LAST-MODIFIED:20250812T113801Z
UID:10010821-1776936600-1776940200@hankasalmi.fi
SUMMARY:K-opisto Sopiva
DESCRIPTION:Vuoro on tarkoitettu vuoron varanneille. \nKansalaisopiston Sopiva: Aloittelijoille erinomaisesti soveltuvan kurssin kynnys on mahdollisimman matala. Kurssi sopii loistavasti ensiaskeleeksi kuntosaliharjoittelun pariin tai jos harjoittelusta on vierähtänyt aikaa ja kaipaat ryhmän tukea. Liikkeet sovelletaan jokaiselle osallistujalle sopiviksi. Tervetuloa liikkumaan sellaisena kuin olet! Kesto 60 min. Ohjaaja Kaisa Koutonen. Lisätiedot kansalaisopiston ryhmistä: Kurssit | Hankasalmen kunta
URL:https://hankasalmi.fi/tapahtuma/k-opisto-sopiva-2/2026-04-23/
LOCATION:Monitoimitalo\, kuntosali\, Kirkkotie 11\, Hankasalmi\, Jyväskylä\, 41520\, Finland
CATEGORIES:Kuntosalin käyttövuorot
GEO:62.3867009;26.4303227
X-APPLE-STRUCTURED-LOCATION;VALUE=URI;X-ADDRESS=Monitoimitalo kuntosali Kirkkotie 11 Hankasalmi Jyväskylä 41520 Finland;X-APPLE-RADIUS=500;X-TITLE=Kirkkotie 11:geo:26.4303227,62.3867009
END:VEVENT
BEGIN:VEVENT
DTSTART;TZID=Europe/Helsinki:20260423T103000
DTEND;TZID=Europe/Helsinki:20260423T113000
DTSTAMP:20260422T202026
CREATED:20250812T114249Z
LAST-MODIFIED:20250812T114249Z
UID:10010846-1776940200-1776943800@hankasalmi.fi
SUMMARY:K-opisto Napakat
DESCRIPTION:Vuoro on tarkoitettu vuoron varanneille. \nKansalaisopiston Napakat: Napakassa tunnin mitassa monipuolista kiertoharjoittelua\, jolla pyritään lisäämään lihasvoimaa ja kestävyyttä eri tasoisille osallistujille sovelletusti. Sopii kokeneemmille esimerkiksi viikon toiseksi harjoittelukerraksi tai aloittaville starttikurssiksi tavoitteellisen treenin pariin. Ohjaaja Kaisa Koutonen. Lisätiedot kansalaisopiston ryhmistä: Kurssit | Hankasalmen kunta
URL:https://hankasalmi.fi/tapahtuma/k-opisto-napakat-2/2026-04-23/
LOCATION:Monitoimitalo\, kuntosali\, Kirkkotie 11\, Hankasalmi\, Jyväskylä\, 41520\, Finland
CATEGORIES:Kuntosalin käyttövuorot
GEO:62.3867009;26.4303227
X-APPLE-STRUCTURED-LOCATION;VALUE=URI;X-ADDRESS=Monitoimitalo kuntosali Kirkkotie 11 Hankasalmi Jyväskylä 41520 Finland;X-APPLE-RADIUS=500;X-TITLE=Kirkkotie 11:geo:26.4303227,62.3867009
END:VEVENT
BEGIN:VEVENT
DTSTART;TZID=Europe/Helsinki:20260423T110000
DTEND;TZID=Europe/Helsinki:20260423T140000
DTSTAMP:20260422T202026
CREATED:20260413T092046Z
LAST-MODIFIED:20260413T092046Z
UID:10016820-1776942000-1776952800@hankasalmi.fi
SUMMARY:Okkerin tilan avoimet ovet
DESCRIPTION:Tervetuloa tutustumaan Okkerin tilan uuteen pihattokokonaisuuteen!
URL:https://hankasalmi.fi/tapahtuma/okkerin-tilan-avoimet-ovet/
LOCATION:Okkerin tila\, Hankamäentie 222\, Hankasalmi\, Suomi
CATEGORIES:Tapahtumat
GEO:62.3844102;26.4686544
X-APPLE-STRUCTURED-LOCATION;VALUE=URI;X-ADDRESS=Okkerin tila Hankamäentie 222 Hankasalmi Suomi;X-APPLE-RADIUS=500;X-TITLE=Hankamäentie 222:geo:26.4686544,62.3844102
END:VEVENT
BEGIN:VEVENT
DTSTART;TZID=Europe/Helsinki:20260423T123000
DTEND;TZID=Europe/Helsinki:20260423T133000
DTSTAMP:20260422T202026
CREATED:20250813T091151Z
LAST-MODIFIED:20250813T091151Z
UID:10010992-1776947400-1776951000@hankasalmi.fi
SUMMARY:Vertaisohjattu kuntosali
DESCRIPTION:Vuoro on tarkoitettu vuoron varanneille. Vertaisohjatussa ryhmässä jokainen harjoittelee itsenäisesti\, paikalla vertaisohjaajat. Ryhmään ohjaudutaan fysioterapian tai liikuntaneuvonnan kautta. Vertaisohjatut kuntosaliryhmät tiistaisin klo 13-14 ja torstaisin klo 12.30-13.30. Järjestäjä Hankasalmen liikuntapalvelut. Lisätiedot jenni.laitinen@hankasalmi.fi
URL:https://hankasalmi.fi/tapahtuma/vertaisohjattu-kuntosali-2/2026-04-23/
LOCATION:Monitoimitalo\, kuntosali\, Kirkkotie 11\, Hankasalmi\, Jyväskylä\, 41520\, Finland
CATEGORIES:Kuntosalin käyttövuorot
ORGANIZER;CN="Hankasalmen liikuntapalvelut":MAILTO:jenni.laitinen@hankasalmi.fi
GEO:62.3867009;26.4303227
X-APPLE-STRUCTURED-LOCATION;VALUE=URI;X-ADDRESS=Monitoimitalo kuntosali Kirkkotie 11 Hankasalmi Jyväskylä 41520 Finland;X-APPLE-RADIUS=500;X-TITLE=Kirkkotie 11:geo:26.4303227,62.3867009
END:VEVENT
BEGIN:VEVENT
DTSTART;TZID=Europe/Helsinki:20260423T131500
DTEND;TZID=Europe/Helsinki:20260423T140000
DTSTAMP:20260422T202026
CREATED:20260126T152353Z
LAST-MODIFIED:20260126T152353Z
UID:10016305-1776950100-1776952800@hankasalmi.fi
SUMMARY:Tuolijumppa Tuikussa
DESCRIPTION:Helppoa ja hauskaa liikettä jokaiseen kehoon! Kaikki liikkeet on mahdollista tehdä tuolilla istuen. Toimintakykyä\, liikkuvuutta\, tasapainoa ja lihasvoimaa. Kaikille avoin ja maksuton\, tervetuloa!
URL:https://hankasalmi.fi/tapahtuma/tuolijumppa-tuikussa/2026-04-23/
LOCATION:Hankasalmen Tuikku ry\, Asematie 1\, Hankasalmi
ATTACH;FMTTYPE=image/png:https://hankasalmi.fi/wp/wp-content/uploads/295414b6-d970-4b6b-98b5-a7d4d689ad45.png
GEO:62.3894407;26.4361327
X-APPLE-STRUCTURED-LOCATION;VALUE=URI;X-ADDRESS=Hankasalmen Tuikku ry Asematie 1 Hankasalmi;X-APPLE-RADIUS=500;X-TITLE=Asematie 1:geo:26.4361327,62.3894407
END:VEVENT
BEGIN:VEVENT
DTSTART;TZID=Europe/Helsinki:20260423T170000
DTEND;TZID=Europe/Helsinki:20260423T190000
DTSTAMP:20260422T202026
CREATED:20260226T071657Z
LAST-MODIFIED:20260226T071657Z
UID:10016514-1776963600-1776970800@hankasalmi.fi
SUMMARY:Vanhempien olohuone perhekeskuksella
DESCRIPTION:Tervetuloa istumaan iltaa muiden vanhempien kanssa! Lapsille pientä puuhaa. Paikalla vuoroviikoin eri toimijoita\, kuten perhekeskus\, seurakunta ja MLL. Vanhempien olohuone avoinna pääsääntöisesti jumppakoulukauden ajan.
URL:https://hankasalmi.fi/tapahtuma/vanhempien-olohuone-perhekeskuksella/2026-04-23/
LOCATION:Hankasalmen perhekeskus\, Kirkkotie 11\, Hankasalmi\, 41520
CATEGORIES:Lapset
GEO:62.3861818;26.4295538
X-APPLE-STRUCTURED-LOCATION;VALUE=URI;X-ADDRESS=Hankasalmen perhekeskus Kirkkotie 11 Hankasalmi 41520;X-APPLE-RADIUS=500;X-TITLE=Kirkkotie 11:geo:26.4295538,62.3861818
END:VEVENT
BEGIN:VEVENT
DTSTART;TZID=Europe/Helsinki:20260423T173000
DTEND;TZID=Europe/Helsinki:20260423T173000
DTSTAMP:20260422T202026
CREATED:20260420T090054Z
LAST-MODIFIED:20260420T090054Z
UID:10016868-1776965400-1776965400@hankasalmi.fi
SUMMARY:Laki-ilta yrittäjille
DESCRIPTION:Silmu-hankkeen laki-ilta yrittäjille. Suomen Yrittäjien lainsäädäntöasioiden päällikkö Tiina Toivonen kertoo kuinka toimia yrittäjyyden kurjimmissa tilanteissa; riita-asioissa ja konkurssissa. Tapahtuma järjestetään Teamsissa\, joten jokainen voi osallistua kotoa tai työpaikalta iltaan. Voit tulla myös Kuuhankaveden koulun Kohtaamoon seuraamaan iltaa\, jos sinulla ei ole mahdollisuutta osallistua Teamsiin. \nOnko sinulla mielessä jokin kysymys lakiasioihin liittyen\, johon haluaisit illassa vastauksen? Voit lähettää sen osoitteeseen: \nhankasalmensilmu@gmail.com \nKysymys käsitellään anonyymisti.
URL:https://hankasalmi.fi/tapahtuma/laki-ilta-yrittajille/
LOCATION:Etänä (Teams)
CATEGORIES:Koulutus,Luennot, keskustelutilaisuudet,Tapahtumat
END:VEVENT
BEGIN:VEVENT
DTSTART;TZID=Europe/Helsinki:20260423T183000
DTEND;TZID=Europe/Helsinki:20260423T183000
DTSTAMP:20260422T202026
CREATED:20260119T141618Z
LAST-MODIFIED:20260119T141618Z
UID:10016102-1776969000-1776969000@hankasalmi.fi
SUMMARY:Venekosken Bingo
DESCRIPTION:Bingo torstaisin Venekosken ns-talolla klo 18.30 alkaen.
URL:https://hankasalmi.fi/tapahtuma/venekosken-bingo-2/2026-04-23/
LOCATION:Venekosken nuorisoseurantalo\, Jokiniementie\, Hankasalmi
CATEGORIES:Tapahtumat
GEO:62.3715186;26.3788895
X-APPLE-STRUCTURED-LOCATION;VALUE=URI;X-ADDRESS=Venekosken nuorisoseurantalo Jokiniementie Hankasalmi;X-APPLE-RADIUS=500;X-TITLE=Jokiniementie:geo:26.3788895,62.3715186
END:VEVENT
BEGIN:VEVENT
DTSTART;TZID=Europe/Helsinki:20260424T090000
DTEND;TZID=Europe/Helsinki:20260424T094500
DTSTAMP:20260422T202026
CREATED:20260126T152142Z
LAST-MODIFIED:20260304T091323Z
UID:10016269-1777021200-1777023900@hankasalmi.fi
SUMMARY:Tuolijumppa Seniorituvalla
DESCRIPTION:Helppoa ja hauskaa liikettä jokaiseen kehoon! Kaikki liikkeet on mahdollista tehdä tuolilla istuen. Toimintakykyä\, liikkuvuutta\, tasapainoa ja lihasvoimaa. Kaikille avoin ja maksuton\, tervetuloa!
URL:https://hankasalmi.fi/tapahtuma/tuolijumppa/2026-04-24/
LOCATION:Senioritupa\, Keskustie 53 A\, Hankasalmi\, Suomi
ATTACH;FMTTYPE=image/png:https://hankasalmi.fi/wp/wp-content/uploads/295414b6-d970-4b6b-98b5-a7d4d689ad45.png
GEO:62.3942453;26.4335189
X-APPLE-STRUCTURED-LOCATION;VALUE=URI;X-ADDRESS=Senioritupa Keskustie 53 A Hankasalmi Suomi;X-APPLE-RADIUS=500;X-TITLE=Keskustie 53 A:geo:26.4335189,62.3942453
END:VEVENT
BEGIN:VEVENT
DTSTART;TZID=Europe/Helsinki:20260424T090000
DTEND;TZID=Europe/Helsinki:20260424T100000
DTSTAMP:20260422T202026
CREATED:20250825T113003Z
LAST-MODIFIED:20251029T081624Z
UID:10013272-1777021200-1777024800@hankasalmi.fi
SUMMARY:Kuntosalin siivous
DESCRIPTION:Kuntosalin siivous. Kuntosalilla saa harjoitella myös siivouksen aikaan\, mutta huomioithan työrauhan!
URL:https://hankasalmi.fi/tapahtuma/kuntosali-kiinni-la-su-klo-00-05-2/2026-04-24/
LOCATION:Monitoimitalo\, kuntosali\, Kirkkotie 11\, Hankasalmi\, Jyväskylä\, 41520\, Finland
CATEGORIES:Kuntosalin siivous
ORGANIZER;CN="Liikuntapalvelut":MAILTO:liikuntapalvelut@hankasalmi.fi
GEO:62.3867009;26.4303227
X-APPLE-STRUCTURED-LOCATION;VALUE=URI;X-ADDRESS=Monitoimitalo kuntosali Kirkkotie 11 Hankasalmi Jyväskylä 41520 Finland;X-APPLE-RADIUS=500;X-TITLE=Kirkkotie 11:geo:26.4303227,62.3867009
END:VEVENT
BEGIN:VEVENT
DTSTART;TZID=Europe/Helsinki:20260424T100000
DTEND;TZID=Europe/Helsinki:20260424T120000
DTSTAMP:20260422T202026
CREATED:20260113T091752Z
LAST-MODIFIED:20260304T091508Z
UID:10016045-1777024800-1777032000@hankasalmi.fi
SUMMARY:Digineuvonta
DESCRIPTION:Maksutonta vertaistukea yksittäisiin\, akuutteihin digipulmiin. Ota oma laite mukaan ja tule paikalle: katsotaan yhdessä\, saisimmeko ongelmasi ratkaistua!
URL:https://hankasalmi.fi/tapahtuma/digineuvonta-2/2026-04-24/
LOCATION:Hankasalmen pääkirjasto\, Rantakalliontie 3\, Hankasalmi\, 41520\, Finland
CATEGORIES:Kirjasto,Seniorit,Tapahtumat
ATTACH;FMTTYPE=image/png:https://hankasalmi.fi/wp/wp-content/uploads/Digineuvonta-kevat-2026.png
GEO:62.3898777;26.4335271
X-APPLE-STRUCTURED-LOCATION;VALUE=URI;X-ADDRESS=Hankasalmen pääkirjasto Rantakalliontie 3 Hankasalmi 41520 Finland;X-APPLE-RADIUS=500;X-TITLE=Rantakalliontie 3:geo:26.4335271,62.3898777
END:VEVENT
BEGIN:VEVENT
DTSTART;TZID=Europe/Helsinki:20260424T100000
DTEND;TZID=Europe/Helsinki:20260424T130000
DTSTAMP:20260422T202026
CREATED:20260216T094217Z
LAST-MODIFIED:20260304T091629Z
UID:10016438-1777024800-1777035600@hankasalmi.fi
SUMMARY:Keskustelukahvila Ystävän tuvalla
DESCRIPTION:Keskustelukahvila Ystävän tuvalla maanantaisin ja perjantaisin. Kaikille avoin. Tervetuloa!
URL:https://hankasalmi.fi/tapahtuma/keskustelukahvila-ystavan-tuvalla/2026-04-24/
LOCATION:Ystävän tupa\, Kuuhankavedentie 27A\, Hankasalmi asema\, 41500
ORGANIZER;CN="Hankasalmen SPR":MAILTO:hankasalmi.spr@gmail.com
GEO:62.3010533;26.4802886
X-APPLE-STRUCTURED-LOCATION;VALUE=URI;X-ADDRESS=Ystävän tupa Kuuhankavedentie 27A Hankasalmi asema 41500;X-APPLE-RADIUS=500;X-TITLE=Kuuhankavedentie 27A:geo:26.4802886,62.3010533
END:VEVENT
BEGIN:VEVENT
DTSTART;TZID=Europe/Helsinki:20260424T103000
DTEND;TZID=Europe/Helsinki:20260424T120000
DTSTAMP:20260422T202026
CREATED:20250812T114804Z
LAST-MODIFIED:20250812T114804Z
UID:10010871-1777026600-1777032000@hankasalmi.fi
SUMMARY:K-opisto Reippaat
DESCRIPTION:Vuoro on tarkoitettu vuoron varanneille. \nKansalaisopiston Reippaat: Reippaan tekemisen kuntosaliryhmä kaikille\, jotka haluavat ylläpitää toimintakykyään monipuolisen ja moniulotteisen liikkeen avulla. Sekoitamme mukaan liikkuvuutta\, koordinaatiota ja tasapainoa parantavia elementtejä. Muunnamme harjoitteita eritasoisille liikkujille. Totista treeniä mutta iloisessa ja kannustavassa porukassa. Kesto 90 min. Ohjaaja Nina Sirkka. Lisätiedot kansalaisopiston ryhmistä: Kurssit | Hankasalmen kunta \n 
URL:https://hankasalmi.fi/tapahtuma/k-opisto-reippaat-2/2026-04-24/
LOCATION:Monitoimitalo\, kuntosali\, Kirkkotie 11\, Hankasalmi\, Jyväskylä\, 41520\, Finland
CATEGORIES:Kuntosalin käyttövuorot
GEO:62.3867009;26.4303227
X-APPLE-STRUCTURED-LOCATION;VALUE=URI;X-ADDRESS=Monitoimitalo kuntosali Kirkkotie 11 Hankasalmi Jyväskylä 41520 Finland;X-APPLE-RADIUS=500;X-TITLE=Kirkkotie 11:geo:26.4303227,62.3867009
END:VEVENT
BEGIN:VEVENT
DTSTART;TZID=Europe/Helsinki:20260424T170000
DTEND;TZID=Europe/Helsinki:20260424T183000
DTSTAMP:20260422T202026
CREATED:20250812T115345Z
LAST-MODIFIED:20250812T115345Z
UID:10010896-1777050000-1777055400@hankasalmi.fi
SUMMARY:K-opisto Voima
DESCRIPTION:Vuoro on tarkoitettu vuoron varanneille.\n\n\nKansalaisopiston Voima: Koko kehon kuntosalitreenissä keskitymme tehokkaisiin ja kokonaisvaltaisiin harjoitusmalleihin\, joista räätälöidään yksilöllistä kehittymistä tukevat liikesarjat jokaiselle osallistujalle. Kuntosalilaitteiden lisäksi monipuolistamme harjoittelua kehonpainoharjoitteilla ja vapailla painoilla. Voiman kehittämisen ohella korostamme lihasaktivaation ja liikkuvuuden merkitystä. Ohjaaja: Kari Laitinen. Lisätiedot Kansalaisopiston kursseista: Kurssit | Hankasalmen kunta
URL:https://hankasalmi.fi/tapahtuma/k-opisto-voima-2/2026-04-24/
LOCATION:Monitoimitalo\, kuntosali\, Kirkkotie 11\, Hankasalmi\, Jyväskylä\, 41520\, Finland
CATEGORIES:Kuntosalin käyttövuorot
GEO:62.3867009;26.4303227
X-APPLE-STRUCTURED-LOCATION;VALUE=URI;X-ADDRESS=Monitoimitalo kuntosali Kirkkotie 11 Hankasalmi Jyväskylä 41520 Finland;X-APPLE-RADIUS=500;X-TITLE=Kirkkotie 11:geo:26.4303227,62.3867009
END:VEVENT
BEGIN:VEVENT
DTSTART;TZID=Europe/Helsinki:20260424T180000
DTEND;TZID=Europe/Helsinki:20260424T180000
DTSTAMP:20260422T202026
CREATED:20260420T090240Z
LAST-MODIFIED:20260420T090240Z
UID:10016869-1777053600-1777053600@hankasalmi.fi
SUMMARY:Lohibingo Pirtti Baari 1:ssä
DESCRIPTION:Bingo starttaa klo 18:00 ja loppuilta lauletaan karaokea pilkkuun asti🕺🎤
URL:https://hankasalmi.fi/tapahtuma/lohibingo-pirtti-baari-1ssa-2/
LOCATION:Pirtti Baari\, Sauvamäki
CATEGORIES:Tapahtumat,Viihde
GEO:62.3083965;26.6338842
X-APPLE-STRUCTURED-LOCATION;VALUE=URI;X-ADDRESS=Pirtti Baari Sauvamäki;X-APPLE-RADIUS=500;X-TITLE=Sauvamäki:geo:26.6338842,62.3083965
END:VEVENT
BEGIN:VEVENT
DTSTART;TZID=Europe/Helsinki:20260424T180000
DTEND;TZID=Europe/Helsinki:20260424T180000
DTSTAMP:20260422T202026
CREATED:20260420T090723Z
LAST-MODIFIED:20260420T090723Z
UID:10016870-1777053600-1777053600@hankasalmi.fi
SUMMARY:Livemusiikkia Pannunkuiskauksessa: HATtrick trio
DESCRIPTION:HATtrick trio on stage! Musiikkimatka Petsamosta Wisconsiniin. Matkassa mukana mm. John Denver\, Ericit Clapton ja Lindström\, Norah Jones ja Pate Mustajärvi sekä J. Karjalainen. Taivaalla saalistaa Eagles. \nTervetuloa! Vapaa pääsy. \nHannu: Koskettimet\nAntero: Soolokitara\nTero: Akustinen kitara ja laulu
URL:https://hankasalmi.fi/tapahtuma/livemusiikkia-pannunkuiskauksessa-hattrick-trio/
LOCATION:Pannunkuiskaus\, Keskustie 36\, Hankasalmi
CATEGORIES:Kulttuuri,Musiikki,Tapahtumat
ATTACH;FMTTYPE=image/jpeg:https://hankasalmi.fi/wp/wp-content/uploads/IMG-20260420-WA0001.jpg
GEO:62.390867;26.4356807
X-APPLE-STRUCTURED-LOCATION;VALUE=URI;X-ADDRESS=Pannunkuiskaus Keskustie 36 Hankasalmi;X-APPLE-RADIUS=500;X-TITLE=Keskustie 36:geo:26.4356807,62.390867
END:VEVENT
BEGIN:VEVENT
DTSTART;TZID=Europe/Helsinki:20260425T100000
DTEND;TZID=Europe/Helsinki:20260425T130000
DTSTAMP:20260422T202026
CREATED:20260109T085553Z
LAST-MODIFIED:20260109T085553Z
UID:10016025-1777111200-1777122000@hankasalmi.fi
SUMMARY:Maksuton lapsiparkki
DESCRIPTION:Tuo lapsesi lapsiparkkiin oman liikuntahetkesi ajaksi tai tule yhdessä lapsesi kanssa liikkumaan. Lapsiparkissa on ohjaajat\, temppurata sekä muuta liikunnallista puuhaa koko perheelle. \nLapsiparkki on tarkoitettu alle kouluikäisille sekä 1.–3. luokan lapsille\, jotka voivat osallistua toimintaan ohjaajien valvonnassa. Myös perheen vanhemmat lapset ovat tervetulleita\, kunhan he noudattavat yhteisiä sääntöjä ja osallistuvat lapsiparkkiin suunniteltuun ohjelmaan. Toiminta tarjoaa liikunnallista tekemistä ja mukavaa yhdessäoloa eri-ikäisille lapsille ja koko perheelle! \nLiikunnalliset lapsiparkit järjestetään Hankasalmen Monitoimitalolla (Kirkkotie 11) lauantaisin klo 10–13: \n\n31.1.\n7.3.\n28.3.\n25.4.\n23.5.\n\nVoit saapua liukuvasti sinulle sopivaan aikaan! \nLue lisää Liikunnallisesta lapsiparkista täältä (klikkaa). 
URL:https://hankasalmi.fi/tapahtuma/maksuton-lapsiparkki-2/2026-04-25/
LOCATION:Hankasalmen monitoimitalo
CATEGORIES:Lapset,Liikunta,Tapahtumat
ORGANIZER;CN="Hankasalmen liikuntapalvelut":MAILTO:jenni.laitinen@hankasalmi.fi
END:VEVENT
BEGIN:VEVENT
DTSTART;TZID=Europe/Helsinki:20260425T100000
DTEND;TZID=Europe/Helsinki:20260425T130000
DTSTAMP:20260422T202026
CREATED:20260327T084533Z
LAST-MODIFIED:20260327T084533Z
UID:10016766-1777111200-1777122000@hankasalmi.fi
SUMMARY:Mäkituvan kevätmyyjäiset
DESCRIPTION:MÄKITUVAN\nKEVÄTMYYJÄISET\nLa 25.4.2026\nklo 10-13\nMokkapalakahvio\nHeittokisat saappaalla ja hernepusseilla\nTULE TEKEMÄÄN KEVÄISET OSTOKSET\nÄITIENPÄIVÄLAHJAKSI TAI OMAKSI ILOKSI!
URL:https://hankasalmi.fi/tapahtuma/makituvan-kevatmyyjaiset/
LOCATION:Toimintakeskus Mäkitupa\, Kirkkotie 1\, Hankasalmi\, Suomi
CATEGORIES:Tapahtumat
ATTACH;FMTTYPE=image/png:https://hankasalmi.fi/wp/wp-content/uploads/Nayttokuva-2026-03-27-103604.png
GEO:62.3865217;26.4333815
X-APPLE-STRUCTURED-LOCATION;VALUE=URI;X-ADDRESS=Toimintakeskus Mäkitupa Kirkkotie 1 Hankasalmi Suomi;X-APPLE-RADIUS=500;X-TITLE=Kirkkotie 1:geo:26.4333815,62.3865217
END:VEVENT
BEGIN:VEVENT
DTSTART;TZID=Europe/Helsinki:20260425T100000
DTEND;TZID=Europe/Helsinki:20260425T150000
DTSTAMP:20260422T202026
CREATED:20260421T051340Z
LAST-MODIFIED:20260422T124724Z
UID:10016874-1777111200-1777129200@hankasalmi.fi
SUMMARY:Aseman taideryhmän 15-vuotisnäyttely
DESCRIPTION:Esillä töitä vuosien varrelta. Ohjelmassa Rinnan ja Siljan lasten tanssiesitys “Kevätilo”\, ohjaus Inga Sippo. Matti Mäkinen kertoo ajankohtaisia kuulumisia. Paikallisia esiintyjiä\, musiikkia\, runoja yms. Kahvitarjoilu klo 11-14. Tervetuloa! Järj. Aseman taideryhmä ja Hankasalmen kunta
URL:https://hankasalmi.fi/tapahtuma/aseman-taideryhman-15-vuotisnayttely/
CATEGORIES:Kulttuuri,Tapahtumat
ATTACH;FMTTYPE=image/png:https://hankasalmi.fi/wp/wp-content/uploads/Opiston-nayttely-2026-Instagram-postaus-45-1.png
END:VEVENT
END:VCALENDAR