BEGIN:VCALENDAR
VERSION:2.0
PRODID:-//Hankasalmen kunta - ECPv6.15.15//NONSGML v1.0//EN
CALSCALE:GREGORIAN
METHOD:PUBLISH
X-WR-CALNAME:Hankasalmen kunta
X-ORIGINAL-URL:https://hankasalmi.fi
X-WR-CALDESC:Tapahtumat Hankasalmen kunta
REFRESH-INTERVAL;VALUE=DURATION:PT1H
X-Robots-Tag:noindex
X-PUBLISHED-TTL:PT1H
BEGIN:VTIMEZONE
TZID:Europe/Helsinki
BEGIN:DAYLIGHT
TZOFFSETFROM:+0200
TZOFFSETTO:+0300
TZNAME:EEST
DTSTART:20250330T010000
END:DAYLIGHT
BEGIN:STANDARD
TZOFFSETFROM:+0300
TZOFFSETTO:+0200
TZNAME:EET
DTSTART:20251026T010000
END:STANDARD
BEGIN:DAYLIGHT
TZOFFSETFROM:+0200
TZOFFSETTO:+0300
TZNAME:EEST
DTSTART:20260329T010000
END:DAYLIGHT
BEGIN:STANDARD
TZOFFSETFROM:+0300
TZOFFSETTO:+0200
TZNAME:EET
DTSTART:20261025T010000
END:STANDARD
BEGIN:DAYLIGHT
TZOFFSETFROM:+0200
TZOFFSETTO:+0300
TZNAME:EEST
DTSTART:20270328T010000
END:DAYLIGHT
BEGIN:STANDARD
TZOFFSETFROM:+0300
TZOFFSETTO:+0200
TZNAME:EET
DTSTART:20271031T010000
END:STANDARD
END:VTIMEZONE
BEGIN:VEVENT
DTSTART;TZID=Europe/Helsinki:20260402T180000
DTEND;TZID=Europe/Helsinki:20260402T180000
DTSTAMP:20260423T021003
CREATED:20260211T095937Z
LAST-MODIFIED:20260316T101835Z
UID:74374-1775152800-1775152800@hankasalmi.fi
SUMMARY:Hankasalmen Jazzklubi: Teija Niku & Juha Kujanpää
DESCRIPTION:HANKASALMEN JAZZKLUBI:\nTEIJA NIKU & JUHA KUJANPÄÄ\nHANKASALMEN JAZZKLUBI:\nTEIJA NIKU & JUHA KUJANPÄÄ\nTo 2.4.2026 klo 18\nHallan tupa\nKirkkorannantie 2\, Hankasalmi\nTeija Niku – harmonikka\nJuha Kujanpää – piano\nLiput ovelta: 15/10 €\nVäliajalla kotiseutuyhdistyksen\nkahvitarjoilu\, vapaaehtoinen maksu
URL:https://hankasalmi.fi/tapahtuma/hankasalmen-jazzklubi-teija-niku-juha-kujanpaa/
LOCATION:Museokylä\, Hallan tupa\, Kirkkorannantie 2\, Hankasalmi\, 41520
CATEGORIES:Kulttuuri,Musiikki,Tapahtumat
ATTACH;FMTTYPE=image/png:https://hankasalmi.fi/wp/wp-content/uploads/jazz-insta.png
GEO:62.3862927;26.4334955
X-APPLE-STRUCTURED-LOCATION;VALUE=URI;X-ADDRESS=Museokylä Hallan tupa Kirkkorannantie 2 Hankasalmi 41520;X-APPLE-RADIUS=500;X-TITLE=Kirkkorannantie 2:geo:26.4334955,62.3862927
END:VEVENT
END:VCALENDAR