BEGIN:VCALENDAR
VERSION:2.0
PRODID:-//Hankasalmen kunta - ECPv6.15.15//NONSGML v1.0//EN
CALSCALE:GREGORIAN
METHOD:PUBLISH
X-WR-CALNAME:Hankasalmen kunta
X-ORIGINAL-URL:https://hankasalmi.fi
X-WR-CALDESC:Tapahtumat Hankasalmen kunta
REFRESH-INTERVAL;VALUE=DURATION:PT1H
X-Robots-Tag:noindex
X-PUBLISHED-TTL:PT1H
BEGIN:VTIMEZONE
TZID:Europe/Helsinki
BEGIN:DAYLIGHT
TZOFFSETFROM:+0200
TZOFFSETTO:+0300
TZNAME:EEST
DTSTART:20250330T010000
END:DAYLIGHT
BEGIN:STANDARD
TZOFFSETFROM:+0300
TZOFFSETTO:+0200
TZNAME:EET
DTSTART:20251026T010000
END:STANDARD
BEGIN:DAYLIGHT
TZOFFSETFROM:+0200
TZOFFSETTO:+0300
TZNAME:EEST
DTSTART:20260329T010000
END:DAYLIGHT
BEGIN:STANDARD
TZOFFSETFROM:+0300
TZOFFSETTO:+0200
TZNAME:EET
DTSTART:20261025T010000
END:STANDARD
BEGIN:DAYLIGHT
TZOFFSETFROM:+0200
TZOFFSETTO:+0300
TZNAME:EEST
DTSTART:20270328T010000
END:DAYLIGHT
BEGIN:STANDARD
TZOFFSETFROM:+0300
TZOFFSETTO:+0200
TZNAME:EET
DTSTART:20271031T010000
END:STANDARD
END:VTIMEZONE
BEGIN:VEVENT
DTSTART;TZID=Europe/Helsinki:20260601T190000
DTEND;TZID=Europe/Helsinki:20260601T190000
DTSTAMP:20260425T135839
CREATED:20260415T105926Z
LAST-MODIFIED:20260415T105926Z
UID:77587-1780340400-1780340400@hankasalmi.fi
SUMMARY:Jalkapalloa: HaKoPo–FC Nopeet
DESCRIPTION:
URL:https://hankasalmi.fi/tapahtuma/jalkapalloa-hakopo-fc-nopeet/
LOCATION:Pellisenrannan liikuntapuisto\, Pellisentie 1\, Hankasalmi\, 41520\, Suomi
CATEGORIES:Liikunta,Tapahtumat
ATTACH;FMTTYPE=image/jpeg:https://hankasalmi.fi/wp/wp-content/uploads/IMG-20260414-WA0000-e1776251125208.jpg
GEO:62.4003051;26.4251182
X-APPLE-STRUCTURED-LOCATION;VALUE=URI;X-ADDRESS=Pellisenrannan liikuntapuisto Pellisentie 1 Hankasalmi 41520 Suomi;X-APPLE-RADIUS=500;X-TITLE=Pellisentie 1:geo:26.4251182,62.4003051
END:VEVENT
END:VCALENDAR