BEGIN:VCALENDAR
VERSION:2.0
PRODID:-//Hankasalmen kunta - ECPv6.15.15//NONSGML v1.0//EN
CALSCALE:GREGORIAN
METHOD:PUBLISH
X-WR-CALNAME:Hankasalmen kunta
X-ORIGINAL-URL:https://hankasalmi.fi
X-WR-CALDESC:Tapahtumat Hankasalmen kunta
REFRESH-INTERVAL;VALUE=DURATION:PT1H
X-Robots-Tag:noindex
X-PUBLISHED-TTL:PT1H
BEGIN:VTIMEZONE
TZID:Europe/Helsinki
BEGIN:DAYLIGHT
TZOFFSETFROM:+0200
TZOFFSETTO:+0300
TZNAME:EEST
DTSTART:20240331T010000
END:DAYLIGHT
BEGIN:STANDARD
TZOFFSETFROM:+0300
TZOFFSETTO:+0200
TZNAME:EET
DTSTART:20241027T010000
END:STANDARD
BEGIN:DAYLIGHT
TZOFFSETFROM:+0200
TZOFFSETTO:+0300
TZNAME:EEST
DTSTART:20250330T010000
END:DAYLIGHT
BEGIN:STANDARD
TZOFFSETFROM:+0300
TZOFFSETTO:+0200
TZNAME:EET
DTSTART:20251026T010000
END:STANDARD
BEGIN:DAYLIGHT
TZOFFSETFROM:+0200
TZOFFSETTO:+0300
TZNAME:EEST
DTSTART:20260329T010000
END:DAYLIGHT
BEGIN:STANDARD
TZOFFSETFROM:+0300
TZOFFSETTO:+0200
TZNAME:EET
DTSTART:20261025T010000
END:STANDARD
END:VTIMEZONE
BEGIN:VEVENT
DTSTART;TZID=Europe/Helsinki:20251205T170000
DTEND;TZID=Europe/Helsinki:20251205T200000
DTSTAMP:20260425T144923
CREATED:20251124T085228Z
LAST-MODIFIED:20251124T085228Z
UID:70946-1764954000-1764964800@hankasalmi.fi
SUMMARY:KUUTAMOKÄVELY
DESCRIPTION:Polku on valaistu kynttilöin\, jotka palavat myöhään yöhön saakka. Laavulla on tarjolla joulupuuroa\, glögiä ja pipareita.  Makkaranpaistomahdollisuus (omat makkarat). Vapaaehtoinen puuro- ja kynttilämaksu. \nOtsavalo mukaan! \nYhteistyössä Hankasalmen Latu ja Polku\, Hankasalmen Kameraseura ja Laukaan Seudun Luonto \n 
URL:https://hankasalmi.fi/tapahtuma/kuutamokavely/
LOCATION:Häähninmäen ulkoilualue\, Häähnintuvantie 160\, Hankasalmi\, 41540
CATEGORIES:Tapahtumat
ATTACH;FMTTYPE=image/jpeg:https://hankasalmi.fi/wp/wp-content/uploads/Pimea-kavely-pehmeat-reunat.jpg
GEO:62.5040059;26.4065664
X-APPLE-STRUCTURED-LOCATION;VALUE=URI;X-ADDRESS=Häähninmäen ulkoilualue Häähnintuvantie 160 Hankasalmi 41540;X-APPLE-RADIUS=500;X-TITLE=Häähnintuvantie 160:geo:26.4065664,62.5040059
END:VEVENT
END:VCALENDAR