BEGIN:VCALENDAR
VERSION:2.0
PRODID:-//Hankasalmen kunta - ECPv6.15.15//NONSGML v1.0//EN
CALSCALE:GREGORIAN
METHOD:PUBLISH
X-WR-CALNAME:Hankasalmen kunta
X-ORIGINAL-URL:https://hankasalmi.fi
X-WR-CALDESC:Tapahtumat Hankasalmen kunta
REFRESH-INTERVAL;VALUE=DURATION:PT1H
X-Robots-Tag:noindex
X-PUBLISHED-TTL:PT1H
BEGIN:VTIMEZONE
TZID:Europe/Helsinki
BEGIN:DAYLIGHT
TZOFFSETFROM:+0200
TZOFFSETTO:+0300
TZNAME:EEST
DTSTART:20240331T010000
END:DAYLIGHT
BEGIN:STANDARD
TZOFFSETFROM:+0300
TZOFFSETTO:+0200
TZNAME:EET
DTSTART:20241027T010000
END:STANDARD
BEGIN:DAYLIGHT
TZOFFSETFROM:+0200
TZOFFSETTO:+0300
TZNAME:EEST
DTSTART:20250330T010000
END:DAYLIGHT
BEGIN:STANDARD
TZOFFSETFROM:+0300
TZOFFSETTO:+0200
TZNAME:EET
DTSTART:20251026T010000
END:STANDARD
BEGIN:DAYLIGHT
TZOFFSETFROM:+0200
TZOFFSETTO:+0300
TZNAME:EEST
DTSTART:20260329T010000
END:DAYLIGHT
BEGIN:STANDARD
TZOFFSETFROM:+0300
TZOFFSETTO:+0200
TZNAME:EET
DTSTART:20261025T010000
END:STANDARD
END:VTIMEZONE
BEGIN:VEVENT
DTSTART;TZID=Europe/Helsinki:20251103T090000
DTEND;TZID=Europe/Helsinki:20251103T113000
DTSTAMP:20260424T114634
CREATED:20250901T144822Z
LAST-MODIFIED:20250901T144822Z
UID:10012461-1762160400-1762169400@hankasalmi.fi
SUMMARY:Leikkitreffit perhekeskuksella
DESCRIPTION:Perhekeskus järjestää joka toinen maanantai klo 9-11.30 (parittomat viikot) leikkitreffit perhekeskuksen kerhotilassa. Vapaata yhdessäoloa\, vertaistukea. Mahdollisuus ohjaukseen ja neuvontaan lapsiperheiden asioissa. \nSyksyn kerrat 11.8.\, 25.8.\, 8.9.\, 22.9. (tämä kerta mahdollisesti ulkona)\, 6.10.\, 20.10. \, 3.11.\, 17.11.\, 1.12.\, 15.12.
URL:https://hankasalmi.fi/tapahtuma/leikkitreffit-perhekeskuksella/2025-11-03/
LOCATION:Hankasalmen perhekeskus\, Kirkkotie 11\, Hankasalmi\, 41520
CATEGORIES:Lapset
GEO:62.3861818;26.4295538
X-APPLE-STRUCTURED-LOCATION;VALUE=URI;X-ADDRESS=Hankasalmen perhekeskus Kirkkotie 11 Hankasalmi 41520;X-APPLE-RADIUS=500;X-TITLE=Kirkkotie 11:geo:26.4295538,62.3861818
END:VEVENT
END:VCALENDAR