BEGIN:VCALENDAR
VERSION:2.0
PRODID:-//Hankasalmen kunta - ECPv6.15.15//NONSGML v1.0//EN
CALSCALE:GREGORIAN
METHOD:PUBLISH
X-WR-CALNAME:Hankasalmen kunta
X-ORIGINAL-URL:https://hankasalmi.fi
X-WR-CALDESC:Tapahtumat Hankasalmen kunta
REFRESH-INTERVAL;VALUE=DURATION:PT1H
X-Robots-Tag:noindex
X-PUBLISHED-TTL:PT1H
BEGIN:VTIMEZONE
TZID:Europe/Helsinki
BEGIN:DAYLIGHT
TZOFFSETFROM:+0200
TZOFFSETTO:+0300
TZNAME:EEST
DTSTART:20250330T010000
END:DAYLIGHT
BEGIN:STANDARD
TZOFFSETFROM:+0300
TZOFFSETTO:+0200
TZNAME:EET
DTSTART:20251026T010000
END:STANDARD
BEGIN:DAYLIGHT
TZOFFSETFROM:+0200
TZOFFSETTO:+0300
TZNAME:EEST
DTSTART:20260329T010000
END:DAYLIGHT
BEGIN:STANDARD
TZOFFSETFROM:+0300
TZOFFSETTO:+0200
TZNAME:EET
DTSTART:20261025T010000
END:STANDARD
BEGIN:DAYLIGHT
TZOFFSETFROM:+0200
TZOFFSETTO:+0300
TZNAME:EEST
DTSTART:20270328T010000
END:DAYLIGHT
BEGIN:STANDARD
TZOFFSETFROM:+0300
TZOFFSETTO:+0200
TZNAME:EET
DTSTART:20271031T010000
END:STANDARD
END:VTIMEZONE
BEGIN:VEVENT
DTSTART;TZID=Europe/Helsinki:20260424T180000
DTEND;TZID=Europe/Helsinki:20260424T180000
DTSTAMP:20260423T013742
CREATED:20260420T090723Z
LAST-MODIFIED:20260420T090723Z
UID:77769-1777053600-1777053600@hankasalmi.fi
SUMMARY:Livemusiikkia Pannunkuiskauksessa: HATtrick trio
DESCRIPTION:HATtrick trio on stage! Musiikkimatka Petsamosta Wisconsiniin. Matkassa mukana mm. John Denver\, Ericit Clapton ja Lindström\, Norah Jones ja Pate Mustajärvi sekä J. Karjalainen. Taivaalla saalistaa Eagles. \nTervetuloa! Vapaa pääsy. \nHannu: Koskettimet\nAntero: Soolokitara\nTero: Akustinen kitara ja laulu
URL:https://hankasalmi.fi/tapahtuma/livemusiikkia-pannunkuiskauksessa-hattrick-trio/
LOCATION:Pannunkuiskaus\, Keskustie 36\, Hankasalmi
CATEGORIES:Kulttuuri,Musiikki,Tapahtumat
ATTACH;FMTTYPE=image/jpeg:https://hankasalmi.fi/wp/wp-content/uploads/IMG-20260420-WA0001.jpg
GEO:62.390867;26.4356807
X-APPLE-STRUCTURED-LOCATION;VALUE=URI;X-ADDRESS=Pannunkuiskaus Keskustie 36 Hankasalmi;X-APPLE-RADIUS=500;X-TITLE=Keskustie 36:geo:26.4356807,62.390867
END:VEVENT
END:VCALENDAR