BEGIN:VCALENDAR
VERSION:2.0
PRODID:-//Hankasalmen kunta - ECPv6.15.15//NONSGML v1.0//EN
CALSCALE:GREGORIAN
METHOD:PUBLISH
X-WR-CALNAME:Hankasalmen kunta
X-ORIGINAL-URL:https://hankasalmi.fi
X-WR-CALDESC:Tapahtumat Hankasalmen kunta
REFRESH-INTERVAL;VALUE=DURATION:PT1H
X-Robots-Tag:noindex
X-PUBLISHED-TTL:PT1H
BEGIN:VTIMEZONE
TZID:Europe/Helsinki
BEGIN:DAYLIGHT
TZOFFSETFROM:+0200
TZOFFSETTO:+0300
TZNAME:EEST
DTSTART:20250330T010000
END:DAYLIGHT
BEGIN:STANDARD
TZOFFSETFROM:+0300
TZOFFSETTO:+0200
TZNAME:EET
DTSTART:20251026T010000
END:STANDARD
BEGIN:DAYLIGHT
TZOFFSETFROM:+0200
TZOFFSETTO:+0300
TZNAME:EEST
DTSTART:20260329T010000
END:DAYLIGHT
BEGIN:STANDARD
TZOFFSETFROM:+0300
TZOFFSETTO:+0200
TZNAME:EET
DTSTART:20261025T010000
END:STANDARD
BEGIN:DAYLIGHT
TZOFFSETFROM:+0200
TZOFFSETTO:+0300
TZNAME:EEST
DTSTART:20270328T010000
END:DAYLIGHT
BEGIN:STANDARD
TZOFFSETFROM:+0300
TZOFFSETTO:+0200
TZNAME:EET
DTSTART:20271031T010000
END:STANDARD
END:VTIMEZONE
BEGIN:VEVENT
DTSTART;TZID=Europe/Helsinki:20260404T200000
DTEND;TZID=Europe/Helsinki:20260404T233000
DTSTAMP:20260423T051949
CREATED:20260211T100150Z
LAST-MODIFIED:20260211T100150Z
UID:74376-1775332800-1775345400@hankasalmi.fi
SUMMARY:Sinitaivas Revontulessa
DESCRIPTION:Sinitaivas \nTanssi-illassa 4. huhtikuuta esiintyy karismaattinen Sinitaivas\, joka luo upea tanssitunnelman Revontuleen. \nIlta alkaa klo 20 ja päättyy 23.30. \nLiput \nENNAKKOLIPPU 20 € | OVELTA 22 €
URL:https://hankasalmi.fi/tapahtuma/sinitaivas-revontulessa/
LOCATION:Lomakeskus Revontuli\, Revontulentie 1\, Hankasalmi\, Suomi
CATEGORIES:Musiikki,Tapahtumat,Viihde
GEO:62.3296357;26.5209291
X-APPLE-STRUCTURED-LOCATION;VALUE=URI;X-ADDRESS=Lomakeskus Revontuli Revontulentie 1 Hankasalmi Suomi;X-APPLE-RADIUS=500;X-TITLE=Revontulentie 1:geo:26.5209291,62.3296357
END:VEVENT
END:VCALENDAR