BEGIN:VCALENDAR
VERSION:2.0
PRODID:-//Hankasalmen kunta - ECPv6.15.15//NONSGML v1.0//EN
CALSCALE:GREGORIAN
METHOD:PUBLISH
X-WR-CALNAME:Hankasalmen kunta
X-ORIGINAL-URL:https://hankasalmi.fi
X-WR-CALDESC:Tapahtumat Hankasalmen kunta
REFRESH-INTERVAL;VALUE=DURATION:PT1H
X-Robots-Tag:noindex
X-PUBLISHED-TTL:PT1H
BEGIN:VTIMEZONE
TZID:Europe/Helsinki
BEGIN:DAYLIGHT
TZOFFSETFROM:+0200
TZOFFSETTO:+0300
TZNAME:EEST
DTSTART:20240331T010000
END:DAYLIGHT
BEGIN:STANDARD
TZOFFSETFROM:+0300
TZOFFSETTO:+0200
TZNAME:EET
DTSTART:20241027T010000
END:STANDARD
BEGIN:DAYLIGHT
TZOFFSETFROM:+0200
TZOFFSETTO:+0300
TZNAME:EEST
DTSTART:20250330T010000
END:DAYLIGHT
BEGIN:STANDARD
TZOFFSETFROM:+0300
TZOFFSETTO:+0200
TZNAME:EET
DTSTART:20251026T010000
END:STANDARD
BEGIN:DAYLIGHT
TZOFFSETFROM:+0200
TZOFFSETTO:+0300
TZNAME:EEST
DTSTART:20260329T010000
END:DAYLIGHT
BEGIN:STANDARD
TZOFFSETFROM:+0300
TZOFFSETTO:+0200
TZNAME:EET
DTSTART:20261025T010000
END:STANDARD
END:VTIMEZONE
BEGIN:VEVENT
DTSTART;TZID=Europe/Helsinki:20251216T180000
DTEND;TZID=Europe/Helsinki:20251216T190000
DTSTAMP:20260425T163659
CREATED:20251121T081558Z
LAST-MODIFIED:20251121T081558Z
UID:70838-1765908000-1765911600@hankasalmi.fi
SUMMARY:Tarina maahisesta - taianomainen esitys koko perheelle
DESCRIPTION:Nuotiotarina maahisesta on jännittävä\, suurimmaksi osaksi improvisoitu esitys\, joka kerrotaan sisätiloihin tehosteiden avulla luodussa öisessä metsässä. Esitys on interaktiivinen\, eli yleisö saa aidosti vaikuttaa esityksen kulkuun – ja jokainen valinta muokkaakin tarinaa ratkaisevasti. \nEsitys sijoittuu Suomen kansantarujen innoittamaan mystiseen maailmaan ja ennen esitystä kerrotaankin kiinnostavaa tietoa Suomen muinaisuskon mytologiasta ja tarujen olennoista. \nEsitys sopii perheen pienimmille\, mutta sillä on annettavaa kaiken ikäisille! \nNuotiotarinoiden kiertue sai alkunsa Hankasalmelta ja on kiertänyt lähikunnissa syksyn ajan ja kiertue nyt päättyy Hankasalmelle esityksen muodossa\, joka on hioutunut unohtumattomaksi tarinakokemukseksi. Valmiiksi verkkokalvoille tarjoillun viihteen sijaan mielikuvitukselle annetaan eväät luoda maailma ja maailmaan tarina\, joka jättää jäljen. \nLiput vain 8 € (alle 4-v ilmaiseksi). Vain korttimaksu\, Google Pay tai Apple Pay.
URL:https://hankasalmi.fi/tapahtuma/tarina-maahisesta-taianomainen-esitys-koko-perheelle/
LOCATION:Venekosken nuorisoseurantalo\, Jokiniementie\, Hankasalmi
CATEGORIES:Kulttuuri,Lapset,Viihde
ATTACH;FMTTYPE=image/png:https://hankasalmi.fi/wp/wp-content/uploads/Nuotiotarina-ilmoitus-Havulinnaan.png
GEO:62.3715186;26.3788895
X-APPLE-STRUCTURED-LOCATION;VALUE=URI;X-ADDRESS=Venekosken nuorisoseurantalo Jokiniementie Hankasalmi;X-APPLE-RADIUS=500;X-TITLE=Jokiniementie:geo:26.3788895,62.3715186
END:VEVENT
END:VCALENDAR