BEGIN:VCALENDAR
VERSION:2.0
PRODID:-//Hankasalmen kunta - ECPv6.15.15//NONSGML v1.0//EN
CALSCALE:GREGORIAN
METHOD:PUBLISH
X-WR-CALNAME:Hankasalmen kunta
X-ORIGINAL-URL:https://hankasalmi.fi
X-WR-CALDESC:Tapahtumat Hankasalmen kunta
REFRESH-INTERVAL;VALUE=DURATION:PT1H
X-Robots-Tag:noindex
X-PUBLISHED-TTL:PT1H
BEGIN:VTIMEZONE
TZID:Europe/Helsinki
BEGIN:DAYLIGHT
TZOFFSETFROM:+0200
TZOFFSETTO:+0300
TZNAME:EEST
DTSTART:20250330T010000
END:DAYLIGHT
BEGIN:STANDARD
TZOFFSETFROM:+0300
TZOFFSETTO:+0200
TZNAME:EET
DTSTART:20251026T010000
END:STANDARD
BEGIN:DAYLIGHT
TZOFFSETFROM:+0200
TZOFFSETTO:+0300
TZNAME:EEST
DTSTART:20260329T010000
END:DAYLIGHT
BEGIN:STANDARD
TZOFFSETFROM:+0300
TZOFFSETTO:+0200
TZNAME:EET
DTSTART:20261025T010000
END:STANDARD
BEGIN:DAYLIGHT
TZOFFSETFROM:+0200
TZOFFSETTO:+0300
TZNAME:EEST
DTSTART:20270328T010000
END:DAYLIGHT
BEGIN:STANDARD
TZOFFSETFROM:+0300
TZOFFSETTO:+0200
TZNAME:EET
DTSTART:20271031T010000
END:STANDARD
END:VTIMEZONE
BEGIN:VEVENT
DTSTART;VALUE=DATE:20260319
DTEND;VALUE=DATE:20260502
DTSTAMP:20260421T124703
CREATED:20260319T141447Z
LAST-MODIFIED:20260319T141447Z
UID:10016753-1773892800-1777607999@hankasalmi.fi
SUMMARY:Vuokko Huttunen: Seikkailen
DESCRIPTION:Vuokko Huttusen pienoisvalokuvanäyttelyssä neljä kuvaa luonnosta. Näyttely on avoinna kirjaston aukioloaikoina 30.4. saakka. Tervetuloa!
URL:https://hankasalmi.fi/tapahtuma/vuokko-huttunen-seikkailen/
LOCATION:Hankasalmen pääkirjasto\, Rantakalliontie 3\, Hankasalmi\, 41520\, Finland
ATTACH;FMTTYPE=image/png:https://hankasalmi.fi/wp/wp-content/uploads/Vuokko-Huttunen-nayttelykuva.png
GEO:62.3898777;26.4335271
X-APPLE-STRUCTURED-LOCATION;VALUE=URI;X-ADDRESS=Hankasalmen pääkirjasto Rantakalliontie 3 Hankasalmi 41520 Finland;X-APPLE-RADIUS=500;X-TITLE=Rantakalliontie 3:geo:26.4335271,62.3898777
END:VEVENT
BEGIN:VEVENT
DTSTART;TZID=Europe/Helsinki:20260421T084500
DTEND;TZID=Europe/Helsinki:20260421T093000
DTSTAMP:20260421T124703
CREATED:20250813T090448Z
LAST-MODIFIED:20250813T090448Z
UID:10010915-1776761100-1776763800@hankasalmi.fi
SUMMARY:Habakerho 7 lk
DESCRIPTION:Vuoro on varattu vuoron varanneille.
URL:https://hankasalmi.fi/tapahtuma/habakerho-7-lk-2/2026-04-21/
LOCATION:Aseman ulkokuntosali\, Kuuhankavedentie 39\, Hankasalmi\, 41500\, Suomi
CATEGORIES:Kuntosalin käyttövuorot
GEO:62.3038364;26.4851064
X-APPLE-STRUCTURED-LOCATION;VALUE=URI;X-ADDRESS=Aseman ulkokuntosali Kuuhankavedentie 39 Hankasalmi 41500 Suomi;X-APPLE-RADIUS=500;X-TITLE=Kuuhankavedentie 39:geo:26.4851064,62.3038364
END:VEVENT
BEGIN:VEVENT
DTSTART;TZID=Europe/Helsinki:20260421T090000
DTEND;TZID=Europe/Helsinki:20260421T110000
DTSTAMP:20260421T124703
CREATED:20260219T075103Z
LAST-MODIFIED:20260219T075103Z
UID:10016501-1776762000-1776769200@hankasalmi.fi
SUMMARY:Vauvatreffit perhekeskuksella
DESCRIPTION:Tervetuloa tapaamaan muita vauvaperheitä! Vapaata yhdessäoloa ja vertaistukea. Vauvatreffit perhekeskuksella joka toinen tiistai. Seurakunta tarjoaa aamupalan. Omia eväitä voi myös ottaa mukaan (lämmitysmahdollisuus). Paikalla perhekeskuskoordinaattori ja seurakunnan perhetoiminnan ohjaaja. \nHuom! 10.3. Vauvatreffit seurakuntatalolla ylioppilaskirjoitusten vuoksi.
URL:https://hankasalmi.fi/tapahtuma/vauvatreffit-perhekeskuksella-3/2026-04-21/
LOCATION:Hankasalmen perhekeskus\, Kirkkotie 11\, Hankasalmi\, 41520
CATEGORIES:Kirjasto
GEO:62.3861818;26.4295538
X-APPLE-STRUCTURED-LOCATION;VALUE=URI;X-ADDRESS=Hankasalmen perhekeskus Kirkkotie 11 Hankasalmi 41520;X-APPLE-RADIUS=500;X-TITLE=Kirkkotie 11:geo:26.4295538,62.3861818
END:VEVENT
BEGIN:VEVENT
DTSTART;TZID=Europe/Helsinki:20260421T093000
DTEND;TZID=Europe/Helsinki:20260421T103000
DTSTAMP:20260421T124703
CREATED:20251029T082307Z
LAST-MODIFIED:20251029T082307Z
UID:10015433-1776763800-1776767400@hankasalmi.fi
SUMMARY:Kuntosalin siivous
DESCRIPTION:Kuntosalin siivous. Kuntosalilla saa harjoitella myös siivouksen aikaan\, mutta huomioithan työrauhan!
URL:https://hankasalmi.fi/tapahtuma/kuntosalin-siivous/2026-04-21/
LOCATION:Monitoimitalo\, kuntosali\, Kirkkotie 11\, Hankasalmi\, Jyväskylä\, 41520\, Finland
CATEGORIES:Kuntosalin siivous
ORGANIZER;CN="Liikuntapalvelut":MAILTO:liikuntapalvelut@hankasalmi.fi
GEO:62.3867009;26.4303227
X-APPLE-STRUCTURED-LOCATION;VALUE=URI;X-ADDRESS=Monitoimitalo kuntosali Kirkkotie 11 Hankasalmi Jyväskylä 41520 Finland;X-APPLE-RADIUS=500;X-TITLE=Kirkkotie 11:geo:26.4303227,62.3867009
END:VEVENT
BEGIN:VEVENT
DTSTART;TZID=Europe/Helsinki:20260421T130000
DTEND;TZID=Europe/Helsinki:20260421T130000
DTSTAMP:20260421T124703
CREATED:20260420T085520Z
LAST-MODIFIED:20260420T085520Z
UID:10016867-1776776400-1776776400@hankasalmi.fi
SUMMARY:Metsäkahvit Hallan tuvalla
DESCRIPTION:Tule kuulemaan\, miten sujuvoitat metsätilan sukupolvenvaihdosta. Esillä talouskoulutus metsänomistajille\, jossa myös naismetsänomistajille suunnattu toteutus. Järjestäjänä Suomen Yrittäjäopisto Oy\, Maatilan metsäomaisuus tuottamaan -hanke\, EU:n osarahoittama.
URL:https://hankasalmi.fi/tapahtuma/metsakahvit-hallan-tuvalla/
LOCATION:Museokylä\, Hallan tupa\, Kirkkorannantie 2\, Hankasalmi\, 41520
CATEGORIES:Tapahtumat
ATTACH;FMTTYPE=image/jpeg:https://hankasalmi.fi/wp/wp-content/uploads/metsakahvit.jpg
GEO:62.3862927;26.4334955
X-APPLE-STRUCTURED-LOCATION;VALUE=URI;X-ADDRESS=Museokylä Hallan tupa Kirkkorannantie 2 Hankasalmi 41520;X-APPLE-RADIUS=500;X-TITLE=Kirkkorannantie 2:geo:26.4334955,62.3862927
END:VEVENT
BEGIN:VEVENT
DTSTART;TZID=Europe/Helsinki:20260421T130000
DTEND;TZID=Europe/Helsinki:20260421T140000
DTSTAMP:20260421T124703
CREATED:20250813T091016Z
LAST-MODIFIED:20250813T091016Z
UID:10010975-1776776400-1776780000@hankasalmi.fi
SUMMARY:Vertaisohjattu kuntosali
DESCRIPTION:Vuoro on tarkoitettu vuoron varanneille. Vertaisohjatussa ryhmässä jokainen harjoittelee itsenäisesti\, paikalla vertaisohjaajat. Ryhmään ohjaudutaan fysioterapian tai liikuntaneuvonnan kautta. Vertaisohjatut kuntosaliryhmät tiistaisin klo 13-14 ja torstaisin klo 12.30-13.30. Järjestäjä Hankasalmen liikuntapalvelut. Lisätiedot jenni.laitinen@hankasalmi.fi
URL:https://hankasalmi.fi/tapahtuma/vertaisohjattu-kuntosali/2026-04-21/
LOCATION:Monitoimitalo\, kuntosali\, Kirkkotie 11\, Hankasalmi\, Jyväskylä\, 41520\, Finland
CATEGORIES:Kuntosalin käyttövuorot
ORGANIZER;CN="Hankasalmen liikuntapalvelut":MAILTO:jenni.laitinen@hankasalmi.fi
GEO:62.3867009;26.4303227
X-APPLE-STRUCTURED-LOCATION;VALUE=URI;X-ADDRESS=Monitoimitalo kuntosali Kirkkotie 11 Hankasalmi Jyväskylä 41520 Finland;X-APPLE-RADIUS=500;X-TITLE=Kirkkotie 11:geo:26.4303227,62.3867009
END:VEVENT
BEGIN:VEVENT
DTSTART;TZID=Europe/Helsinki:20260421T140000
DTEND;TZID=Europe/Helsinki:20260421T153000
DTSTAMP:20260421T124703
CREATED:20250812T112544Z
LAST-MODIFIED:20250812T112544Z
UID:10010779-1776780000-1776785400@hankasalmi.fi
SUMMARY:K-opisto Kiertäjät 1
DESCRIPTION:Vuoro on tarkoitettu vuoron varanneille. \nKansalaisopiston kiertäjät: Kurssilla opit käyttämään laitteita oikein. Monipuolista harjoittelua lihasvoiman ja kestävyyden kehittämiseksi. Liikkeet sovelletaan eri tasoisille osallistujille sopiviksi. Kesto 90 min. Ohjaaja Kaisa Koutonen. Lisätiedot kansalaisopiston ryhmistä: Kurssit | Hankasalmen kunta
URL:https://hankasalmi.fi/tapahtuma/k-opisto-kiertajat-1-2/2026-04-21/
LOCATION:Monitoimitalo\, kuntosali\, Kirkkotie 11\, Hankasalmi\, Jyväskylä\, 41520\, Finland
CATEGORIES:Kuntosalin käyttövuorot
GEO:62.3867009;26.4303227
X-APPLE-STRUCTURED-LOCATION;VALUE=URI;X-ADDRESS=Monitoimitalo kuntosali Kirkkotie 11 Hankasalmi Jyväskylä 41520 Finland;X-APPLE-RADIUS=500;X-TITLE=Kirkkotie 11:geo:26.4303227,62.3867009
END:VEVENT
END:VCALENDAR