BEGIN:VCALENDAR
VERSION:2.0
PRODID:-//Hankasalmen kunta - ECPv6.15.15//NONSGML v1.0//EN
CALSCALE:GREGORIAN
METHOD:PUBLISH
X-WR-CALNAME:Hankasalmen kunta
X-ORIGINAL-URL:https://hankasalmi.fi
X-WR-CALDESC:Tapahtumat Hankasalmen kunta
REFRESH-INTERVAL;VALUE=DURATION:PT1H
X-Robots-Tag:noindex
X-PUBLISHED-TTL:PT1H
BEGIN:VTIMEZONE
TZID:Europe/Helsinki
BEGIN:DAYLIGHT
TZOFFSETFROM:+0200
TZOFFSETTO:+0300
TZNAME:EEST
DTSTART:20250330T010000
END:DAYLIGHT
BEGIN:STANDARD
TZOFFSETFROM:+0300
TZOFFSETTO:+0200
TZNAME:EET
DTSTART:20251026T010000
END:STANDARD
BEGIN:DAYLIGHT
TZOFFSETFROM:+0200
TZOFFSETTO:+0300
TZNAME:EEST
DTSTART:20260329T010000
END:DAYLIGHT
BEGIN:STANDARD
TZOFFSETFROM:+0300
TZOFFSETTO:+0200
TZNAME:EET
DTSTART:20261025T010000
END:STANDARD
BEGIN:DAYLIGHT
TZOFFSETFROM:+0200
TZOFFSETTO:+0300
TZNAME:EEST
DTSTART:20270328T010000
END:DAYLIGHT
BEGIN:STANDARD
TZOFFSETFROM:+0300
TZOFFSETTO:+0200
TZNAME:EET
DTSTART:20271031T010000
END:STANDARD
END:VTIMEZONE
BEGIN:VEVENT
DTSTART;VALUE=DATE:20260319
DTEND;VALUE=DATE:20260502
DTSTAMP:20260425T133404
CREATED:20260319T141447Z
LAST-MODIFIED:20260319T141447Z
UID:10016753-1773892800-1777607999@hankasalmi.fi
SUMMARY:Vuokko Huttunen: Seikkailen
DESCRIPTION:Vuokko Huttusen pienoisvalokuvanäyttelyssä neljä kuvaa luonnosta. Näyttely on avoinna kirjaston aukioloaikoina 30.4. saakka. Tervetuloa!
URL:https://hankasalmi.fi/tapahtuma/vuokko-huttunen-seikkailen/
LOCATION:Hankasalmen pääkirjasto\, Rantakalliontie 3\, Hankasalmi\, 41520\, Finland
ATTACH;FMTTYPE=image/png:https://hankasalmi.fi/wp/wp-content/uploads/Vuokko-Huttunen-nayttelykuva.png
GEO:62.3898777;26.4335271
X-APPLE-STRUCTURED-LOCATION;VALUE=URI;X-ADDRESS=Hankasalmen pääkirjasto Rantakalliontie 3 Hankasalmi 41520 Finland;X-APPLE-RADIUS=500;X-TITLE=Rantakalliontie 3:geo:26.4335271,62.3898777
END:VEVENT
BEGIN:VEVENT
DTSTART;VALUE=DATE:20260423
DTEND;VALUE=DATE:20260510
DTSTAMP:20260425T133404
CREATED:20260319T143955Z
LAST-MODIFIED:20260422T124634Z
UID:10016755-1776916800-1778299199@hankasalmi.fi
SUMMARY:Kansalaisopiston kädentaitojen näyttely
DESCRIPTION:Hankasalmen kansalaisopiston kädentaitokurssien kevätnäyttely. Tule ihastelemaan\, mitä kaikkea taitavat kädet ovat lukuvuoden aikana piireissä saaneet aikaan. <3 \n 
URL:https://hankasalmi.fi/tapahtuma/kansalaisopiston-kadentaitojen-nayttely/
LOCATION:Hankasalmen pääkirjasto\, Rantakalliontie 3\, Hankasalmi\, 41520\, Finland
CATEGORIES:Näyttelyt,Tapahtumat,Kirjasto,Kulttuuri
ATTACH;FMTTYPE=image/png:https://hankasalmi.fi/wp/wp-content/uploads/Opiston-nayttely-2026-Instagram-postaus-45.png
GEO:62.3898777;26.4335271
X-APPLE-STRUCTURED-LOCATION;VALUE=URI;X-ADDRESS=Hankasalmen pääkirjasto Rantakalliontie 3 Hankasalmi 41520 Finland;X-APPLE-RADIUS=500;X-TITLE=Rantakalliontie 3:geo:26.4335271,62.3898777
END:VEVENT
BEGIN:VEVENT
DTSTART;TZID=Europe/Helsinki:20260425T100000
DTEND;TZID=Europe/Helsinki:20260425T130000
DTSTAMP:20260425T133404
CREATED:20260109T085553Z
LAST-MODIFIED:20260109T085553Z
UID:10016025-1777111200-1777122000@hankasalmi.fi
SUMMARY:Maksuton lapsiparkki
DESCRIPTION:Tuo lapsesi lapsiparkkiin oman liikuntahetkesi ajaksi tai tule yhdessä lapsesi kanssa liikkumaan. Lapsiparkissa on ohjaajat\, temppurata sekä muuta liikunnallista puuhaa koko perheelle. \nLapsiparkki on tarkoitettu alle kouluikäisille sekä 1.–3. luokan lapsille\, jotka voivat osallistua toimintaan ohjaajien valvonnassa. Myös perheen vanhemmat lapset ovat tervetulleita\, kunhan he noudattavat yhteisiä sääntöjä ja osallistuvat lapsiparkkiin suunniteltuun ohjelmaan. Toiminta tarjoaa liikunnallista tekemistä ja mukavaa yhdessäoloa eri-ikäisille lapsille ja koko perheelle! \nLiikunnalliset lapsiparkit järjestetään Hankasalmen Monitoimitalolla (Kirkkotie 11) lauantaisin klo 10–13: \n\n31.1.\n7.3.\n28.3.\n25.4.\n23.5.\n\nVoit saapua liukuvasti sinulle sopivaan aikaan! \nLue lisää Liikunnallisesta lapsiparkista täältä (klikkaa). 
URL:https://hankasalmi.fi/tapahtuma/maksuton-lapsiparkki-2/2026-04-25/
LOCATION:Hankasalmen monitoimitalo
CATEGORIES:Tapahtumat,Lapset,Liikunta
ORGANIZER;CN="Hankasalmen liikuntapalvelut":MAILTO:jenni.laitinen@hankasalmi.fi
END:VEVENT
BEGIN:VEVENT
DTSTART;TZID=Europe/Helsinki:20260425T100000
DTEND;TZID=Europe/Helsinki:20260425T130000
DTSTAMP:20260425T133404
CREATED:20260327T084533Z
LAST-MODIFIED:20260327T084533Z
UID:10016766-1777111200-1777122000@hankasalmi.fi
SUMMARY:Mäkituvan kevätmyyjäiset
DESCRIPTION:MÄKITUVAN\nKEVÄTMYYJÄISET\nLa 25.4.2026\nklo 10-13\nMokkapalakahvio\nHeittokisat saappaalla ja hernepusseilla\nTULE TEKEMÄÄN KEVÄISET OSTOKSET\nÄITIENPÄIVÄLAHJAKSI TAI OMAKSI ILOKSI!
URL:https://hankasalmi.fi/tapahtuma/makituvan-kevatmyyjaiset/
LOCATION:Toimintakeskus Mäkitupa\, Kirkkotie 1\, Hankasalmi\, Suomi
CATEGORIES:Tapahtumat
ATTACH;FMTTYPE=image/png:https://hankasalmi.fi/wp/wp-content/uploads/Nayttokuva-2026-03-27-103604.png
GEO:62.3865217;26.4333815
X-APPLE-STRUCTURED-LOCATION;VALUE=URI;X-ADDRESS=Toimintakeskus Mäkitupa Kirkkotie 1 Hankasalmi Suomi;X-APPLE-RADIUS=500;X-TITLE=Kirkkotie 1:geo:26.4333815,62.3865217
END:VEVENT
BEGIN:VEVENT
DTSTART;TZID=Europe/Helsinki:20260425T100000
DTEND;TZID=Europe/Helsinki:20260425T150000
DTSTAMP:20260425T133404
CREATED:20260421T051340Z
LAST-MODIFIED:20260422T124724Z
UID:10016874-1777111200-1777129200@hankasalmi.fi
SUMMARY:Aseman taideryhmän 15-vuotisnäyttely
DESCRIPTION:Esillä töitä vuosien varrelta. Ohjelmassa Rinnan ja Siljan lasten tanssiesitys “Kevätilo”\, ohjaus Inga Sippo. Matti Mäkinen kertoo ajankohtaisia kuulumisia. Paikallisia esiintyjiä\, musiikkia\, runoja yms. Kahvitarjoilu klo 11-14. Tervetuloa! Järj. Aseman taideryhmä ja Hankasalmen kunta
URL:https://hankasalmi.fi/tapahtuma/aseman-taideryhman-15-vuotisnayttely/
CATEGORIES:Kulttuuri,Tapahtumat
ATTACH;FMTTYPE=image/png:https://hankasalmi.fi/wp/wp-content/uploads/Opiston-nayttely-2026-Instagram-postaus-45-1.png
END:VEVENT
BEGIN:VEVENT
DTSTART;TZID=Europe/Helsinki:20260425T200000
DTEND;TZID=Europe/Helsinki:20260425T200000
DTSTAMP:20260425T133404
CREATED:20260317T104327Z
LAST-MODIFIED:20260330T081759Z
UID:10016741-1777147200-1777147200@hankasalmi.fi
SUMMARY:Oku Luukkainen: Ysäribileet
DESCRIPTION:LA 25.4.\nOku Luukkainen Ysäribileet \nTämä ilta on täynnä 90-luvun klassikoita\, kun radiosta DJ Oku Luukkainen pääsee lauteille. Kovin ysärimusiikin dj ei varmasti jätä ketään kylmäksi\, joten ei muuta kuin teeman mukainen asu päälle ja menoksi! \nLiput \nLIPPU 20 € \nVaraa majoituspaketti 2 h huoneessa 85 € /hlö
URL:https://hankasalmi.fi/tapahtuma/oku-luukkainen-ysaribileet-revl/
LOCATION:Lomakeskus Revontuli\, Revontulentie 1\, Hankasalmi\, Suomi
CATEGORIES:Viihde,Musiikki,Tapahtumat
GEO:62.3296357;26.5209291
X-APPLE-STRUCTURED-LOCATION;VALUE=URI;X-ADDRESS=Lomakeskus Revontuli Revontulentie 1 Hankasalmi Suomi;X-APPLE-RADIUS=500;X-TITLE=Revontulentie 1:geo:26.5209291,62.3296357
END:VEVENT
BEGIN:VEVENT
DTSTART;TZID=Europe/Helsinki:20260425T200000
DTEND;TZID=Europe/Helsinki:20260425T200000
DTSTAMP:20260425T133404
CREATED:20260422T124317Z
LAST-MODIFIED:20260423T152358Z
UID:10016878-1777147200-1777147200@hankasalmi.fi
SUMMARY:Livemusaa: Tyly Kohtalo
DESCRIPTION:Tyly Kohtalo Live! Yhtyeemme on tarjonnut monipuolista blues- ja rootsmusaa jo yli kolmekymmentä vuotta. Omien sekä lainakappaleiden tarinat kertovat lempeällä ja humoristisella otteella suomalaisen miehen ja naisen elämänmenosta\, kipupisteitä ja suuria tunteitakaan välttelemättä.
URL:https://hankasalmi.fi/tapahtuma/livemusaa-tyly-kohtalo/
LOCATION:Pirtti Baari 2\, Riukulantie 3\, Hankasalmi\, 41520
CATEGORIES:Viihde,Musiikki,Tapahtumat
GEO:62.3897467;26.4376487
X-APPLE-STRUCTURED-LOCATION;VALUE=URI;X-ADDRESS=Pirtti Baari 2 Riukulantie 3 Hankasalmi 41520;X-APPLE-RADIUS=500;X-TITLE=Riukulantie 3:geo:26.4376487,62.3897467
END:VEVENT
BEGIN:VEVENT
DTSTART;TZID=Europe/Helsinki:20260426T000000
DTEND;TZID=Europe/Helsinki:20260426T050000
DTSTAMP:20260425T133404
CREATED:20250131T091945Z
LAST-MODIFIED:20250326T105612Z
UID:10008687-1777161600-1777179600@hankasalmi.fi
SUMMARY:Kuntosali kiinni la-su klo 00-05
DESCRIPTION:Kuntosali kiinni
URL:https://hankasalmi.fi/tapahtuma/kuntosali-kiinni-su-klo-22-00/2026-04-26/
LOCATION:Monitoimitalo\, kuntosali\, Kirkkotie 11\, Hankasalmi\, Jyväskylä\, 41520\, Finland
CATEGORIES:Kuntosali kiinni
ORGANIZER;CN="Liikuntapalvelut":MAILTO:liikuntapalvelut@hankasalmi.fi
GEO:62.3867009;26.4303227
X-APPLE-STRUCTURED-LOCATION;VALUE=URI;X-ADDRESS=Monitoimitalo kuntosali Kirkkotie 11 Hankasalmi Jyväskylä 41520 Finland;X-APPLE-RADIUS=500;X-TITLE=Kirkkotie 11:geo:26.4303227,62.3867009
END:VEVENT
END:VCALENDAR