BEGIN:VCALENDAR
VERSION:2.0
PRODID:-//Hankasalmen kunta - ECPv6.15.15//NONSGML v1.0//EN
CALSCALE:GREGORIAN
METHOD:PUBLISH
X-ORIGINAL-URL:https://hankasalmi.fi
X-WR-CALDESC:Tapahtumat Hankasalmen kunta
REFRESH-INTERVAL;VALUE=DURATION:PT1H
X-Robots-Tag:noindex
X-PUBLISHED-TTL:PT1H
BEGIN:VTIMEZONE
TZID:Europe/Helsinki
BEGIN:DAYLIGHT
TZOFFSETFROM:+0200
TZOFFSETTO:+0300
TZNAME:EEST
DTSTART:20250330T010000
END:DAYLIGHT
BEGIN:STANDARD
TZOFFSETFROM:+0300
TZOFFSETTO:+0200
TZNAME:EET
DTSTART:20251026T010000
END:STANDARD
BEGIN:DAYLIGHT
TZOFFSETFROM:+0200
TZOFFSETTO:+0300
TZNAME:EEST
DTSTART:20260329T010000
END:DAYLIGHT
BEGIN:STANDARD
TZOFFSETFROM:+0300
TZOFFSETTO:+0200
TZNAME:EET
DTSTART:20261025T010000
END:STANDARD
BEGIN:DAYLIGHT
TZOFFSETFROM:+0200
TZOFFSETTO:+0300
TZNAME:EEST
DTSTART:20270328T010000
END:DAYLIGHT
BEGIN:STANDARD
TZOFFSETFROM:+0300
TZOFFSETTO:+0200
TZNAME:EET
DTSTART:20271031T010000
END:STANDARD
END:VTIMEZONE
BEGIN:VEVENT
DTSTART;TZID=Europe/Helsinki:20260429T100000
DTEND;TZID=Europe/Helsinki:20260429T120000
DTSTAMP:20260423T014900
CREATED:20260116T074049Z
LAST-MODIFIED:20260119T115305Z
UID:10016083-1777456800-1777464000@hankasalmi.fi
SUMMARY:Perhekerho
DESCRIPTION:Avoin kerho kaikenikäisille lapsille\, aikuisille\, isovanhemmille\, kummeille ja muille läheisille. Yhdessäoloa ja mukavaa puuhaa. Tarjoamme lounaan.
URL:https://hankasalmi.fi/tapahtuma/perhekerho-2/2026-04-29/
LOCATION:Hankasalmen seurakuntatalo\, Pappilantie 4\, Hankasalmi\, Suomi
GEO:62.3885997;26.4342797
X-APPLE-STRUCTURED-LOCATION;VALUE=URI;X-ADDRESS=Hankasalmen seurakuntatalo Pappilantie 4 Hankasalmi Suomi;X-APPLE-RADIUS=500;X-TITLE=Pappilantie 4:geo:26.4342797,62.3885997
END:VEVENT
BEGIN:VEVENT
DTSTART;TZID=Europe/Helsinki:20260506T100000
DTEND;TZID=Europe/Helsinki:20260506T120000
DTSTAMP:20260423T014900
CREATED:20260116T074049Z
LAST-MODIFIED:20260119T115305Z
UID:10016084-1778061600-1778068800@hankasalmi.fi
SUMMARY:Perhekerho
DESCRIPTION:Avoin kerho kaikenikäisille lapsille\, aikuisille\, isovanhemmille\, kummeille ja muille läheisille. Yhdessäoloa ja mukavaa puuhaa. Tarjoamme lounaan.
URL:https://hankasalmi.fi/tapahtuma/perhekerho-2/2026-05-06/
LOCATION:Hankasalmen seurakuntatalo\, Pappilantie 4\, Hankasalmi\, Suomi
GEO:62.3885997;26.4342797
X-APPLE-STRUCTURED-LOCATION;VALUE=URI;X-ADDRESS=Hankasalmen seurakuntatalo Pappilantie 4 Hankasalmi Suomi;X-APPLE-RADIUS=500;X-TITLE=Pappilantie 4:geo:26.4342797,62.3885997
END:VEVENT
BEGIN:VEVENT
DTSTART;TZID=Europe/Helsinki:20260513T100000
DTEND;TZID=Europe/Helsinki:20260513T120000
DTSTAMP:20260423T014900
CREATED:20260116T074049Z
LAST-MODIFIED:20260119T115305Z
UID:10016085-1778666400-1778673600@hankasalmi.fi
SUMMARY:Perhekerho
DESCRIPTION:Avoin kerho kaikenikäisille lapsille\, aikuisille\, isovanhemmille\, kummeille ja muille läheisille. Yhdessäoloa ja mukavaa puuhaa. Tarjoamme lounaan.
URL:https://hankasalmi.fi/tapahtuma/perhekerho-2/2026-05-13/
LOCATION:Hankasalmen seurakuntatalo\, Pappilantie 4\, Hankasalmi\, Suomi
GEO:62.3885997;26.4342797
X-APPLE-STRUCTURED-LOCATION;VALUE=URI;X-ADDRESS=Hankasalmen seurakuntatalo Pappilantie 4 Hankasalmi Suomi;X-APPLE-RADIUS=500;X-TITLE=Pappilantie 4:geo:26.4342797,62.3885997
END:VEVENT
BEGIN:VEVENT
DTSTART;TZID=Europe/Helsinki:20260520T100000
DTEND;TZID=Europe/Helsinki:20260520T120000
DTSTAMP:20260423T014900
CREATED:20260116T074049Z
LAST-MODIFIED:20260119T115305Z
UID:10016086-1779271200-1779278400@hankasalmi.fi
SUMMARY:Perhekerho
DESCRIPTION:Avoin kerho kaikenikäisille lapsille\, aikuisille\, isovanhemmille\, kummeille ja muille läheisille. Yhdessäoloa ja mukavaa puuhaa. Tarjoamme lounaan.
URL:https://hankasalmi.fi/tapahtuma/perhekerho-2/2026-05-20/
LOCATION:Hankasalmen seurakuntatalo\, Pappilantie 4\, Hankasalmi\, Suomi
GEO:62.3885997;26.4342797
X-APPLE-STRUCTURED-LOCATION;VALUE=URI;X-ADDRESS=Hankasalmen seurakuntatalo Pappilantie 4 Hankasalmi Suomi;X-APPLE-RADIUS=500;X-TITLE=Pappilantie 4:geo:26.4342797,62.3885997
END:VEVENT
BEGIN:VEVENT
DTSTART;TZID=Europe/Helsinki:20260527T100000
DTEND;TZID=Europe/Helsinki:20260527T120000
DTSTAMP:20260423T014900
CREATED:20260116T074049Z
LAST-MODIFIED:20260119T115305Z
UID:10016087-1779876000-1779883200@hankasalmi.fi
SUMMARY:Perhekerho
DESCRIPTION:Avoin kerho kaikenikäisille lapsille\, aikuisille\, isovanhemmille\, kummeille ja muille läheisille. Yhdessäoloa ja mukavaa puuhaa. Tarjoamme lounaan.
URL:https://hankasalmi.fi/tapahtuma/perhekerho-2/2026-05-27/
LOCATION:Hankasalmen seurakuntatalo\, Pappilantie 4\, Hankasalmi\, Suomi
GEO:62.3885997;26.4342797
X-APPLE-STRUCTURED-LOCATION;VALUE=URI;X-ADDRESS=Hankasalmen seurakuntatalo Pappilantie 4 Hankasalmi Suomi;X-APPLE-RADIUS=500;X-TITLE=Pappilantie 4:geo:26.4342797,62.3885997
END:VEVENT
BEGIN:VEVENT
DTSTART;TZID=Europe/Helsinki:20260603T100000
DTEND;TZID=Europe/Helsinki:20260603T120000
DTSTAMP:20260423T014900
CREATED:20260119T115918Z
LAST-MODIFIED:20260119T115918Z
UID:10016088-1780480800-1780488000@hankasalmi.fi
SUMMARY:Perhekerho
DESCRIPTION:Perhekerhon kevätkauden päätös: vietämme kummien päivää yhdessä puuhapäivien osallistujien kanssa. Avoin kerho kaikenikäisille lapsille\, aikuisille\, isovanhemmille\, kummeille ja muille läheisille. Yhdessäoloa ja mukavaa puuhaa. Tarjoamme lounaan.
URL:https://hankasalmi.fi/tapahtuma/perhekerho-2-4/
LOCATION:Hankasalmen seurakuntatalo\, Pappilantie 4\, Hankasalmi\, Suomi
GEO:62.3885997;26.4342797
X-APPLE-STRUCTURED-LOCATION;VALUE=URI;X-ADDRESS=Hankasalmen seurakuntatalo Pappilantie 4 Hankasalmi Suomi;X-APPLE-RADIUS=500;X-TITLE=Pappilantie 4:geo:26.4342797,62.3885997
END:VEVENT
END:VCALENDAR